BEGIN:VCALENDAR
VERSION:2.0
PRODID:-//YAZILIM TEKNO - ECPv6.15.20//NONSGML v1.0//EN
CALSCALE:GREGORIAN
METHOD:PUBLISH
X-ORIGINAL-URL:https://yazilimtekno.com
X-WR-CALDESC:YAZILIM TEKNO için etkinlikler
REFRESH-INTERVAL;VALUE=DURATION:PT1H
X-Robots-Tag:noindex
X-PUBLISHED-TTL:PT1H
BEGIN:VTIMEZONE
TZID:Europe/Istanbul
BEGIN:STANDARD
TZOFFSETFROM:+0300
TZOFFSETTO:+0300
TZNAME:+03
DTSTART:20230101T000000
END:STANDARD
END:VTIMEZONE
BEGIN:VEVENT
DTSTART;TZID=Europe/Istanbul:20250415T130000
DTEND;TZID=Europe/Istanbul:20250415T150000
DTSTAMP:20260419T232752
CREATED:20250414T100046Z
LAST-MODIFIED:20250414T152608Z
UID:1000012914-1744722000-1744729200@yazilimtekno.com
SUMMARY:Cype İnşaat Mühendisliği Yazılımları Tanıtım Semineri
DESCRIPTION:Sizleri 15.04.2025 tarihinde Saat 13:00’da Trabzon İMO’ daki sunumumuza bekleriz \nCYPE BIM yazılımının mühendislik ve inşaat projelerinin yönetimi ve yürütülmesindeki potansiyelini göstermek ve çelik\, ahşap ve hafif çelik yapıların tasarımı ve analizindeki rolümüzü vurgulamak için yüz yüze bir konferans düzenleyeceğiz.
URL:https://yazilimtekno.com/event/cype-insaat-muhendisligi-yazilimlari-tanitim-semineri/
LOCATION:TRABZON İMO\, İMO\, TRABZON\, Turkey
CATEGORIES:Tanıtım
END:VEVENT
BEGIN:VEVENT
DTSTART;VALUE=DATE:20241223
DTEND;VALUE=DATE:20250101
DTSTAMP:20260419T232752
CREATED:20241220T101744Z
LAST-MODIFIED:20241220T105115Z
UID:1000012077-1734912000-1735689599@yazilimtekno.com
SUMMARY:SEISMOSOFT ÜRÜNLERİNDE YIL SONU KAMPANYASI
DESCRIPTION:SEISMOSOFT ÜRÜNLERİNDE YIL SONU KAMPANYASI\n 
URL:https://yazilimtekno.com/event/seismosoft-urunlerinde-yil-sonu-kampanyasi/
CATEGORIES:YAZILIM KAMPANYALARI
ATTACH;FMTTYPE=image/jpeg:https://yazilimtekno.com/wp-content/uploads/2024/12/2023-SEISMO-PRODUCTS-SLIDER.jpg
END:VEVENT
END:VCALENDAR